BEGIN:VCALENDAR
VERSION:2.0
PRODID:-//Szkoła Nauk o Języku i Literaturze - ECPv6.15.20//NONSGML v1.0//EN
CALSCALE:GREGORIAN
METHOD:PUBLISH
X-ORIGINAL-URL:https://helio.web.amu.edu.pl
X-WR-CALDESC:Wydarzenia dla Szkoła Nauk o Języku i Literaturze
REFRESH-INTERVAL;VALUE=DURATION:PT1H
X-Robots-Tag:noindex
X-PUBLISHED-TTL:PT1H
BEGIN:VTIMEZONE
TZID:Europe/Warsaw
BEGIN:DAYLIGHT
TZOFFSETFROM:+0100
TZOFFSETTO:+0200
TZNAME:CEST
DTSTART:20250330T010000
END:DAYLIGHT
BEGIN:STANDARD
TZOFFSETFROM:+0200
TZOFFSETTO:+0100
TZNAME:CET
DTSTART:20251026T010000
END:STANDARD
BEGIN:DAYLIGHT
TZOFFSETFROM:+0100
TZOFFSETTO:+0200
TZNAME:CEST
DTSTART:20260329T010000
END:DAYLIGHT
BEGIN:STANDARD
TZOFFSETFROM:+0200
TZOFFSETTO:+0100
TZNAME:CET
DTSTART:20261025T010000
END:STANDARD
BEGIN:DAYLIGHT
TZOFFSETFROM:+0100
TZOFFSETTO:+0200
TZNAME:CEST
DTSTART:20270328T010000
END:DAYLIGHT
BEGIN:STANDARD
TZOFFSETFROM:+0200
TZOFFSETTO:+0100
TZNAME:CET
DTSTART:20271031T010000
END:STANDARD
END:VTIMEZONE
BEGIN:VEVENT
DTSTART;TZID=Europe/Warsaw:20260414T080000
DTEND;TZID=Europe/Warsaw:20260428T170000
DTSTAMP:20260426T022217
CREATED:20260410T080011Z
LAST-MODIFIED:20260410T080159Z
UID:2707-1776153600-1777395600@helio.web.amu.edu.pl
SUMMARY:Norweski Kwiecień filmowy w Kinie Pałacowym
DESCRIPTION:Norweski Kwiecień Filmowy | Przegląd filmowy w kinie Pałacowym | Facebook
URL:https://helio.web.amu.edu.pl/event/norweski-kwiecien-filmowy-w-kinie-palacowym/
CATEGORIES:Wydział Neofilologii
END:VEVENT
BEGIN:VEVENT
DTSTART;TZID=Europe/Warsaw:20260508T080000
DTEND;TZID=Europe/Warsaw:20260509T170000
DTSTAMP:20260426T022217
CREATED:20260309T092152Z
LAST-MODIFIED:20260309T092152Z
UID:2599-1778227200-1778346000@helio.web.amu.edu.pl
SUMMARY:IV Ogólnopolska Konferencja Groznawcza: Ostatni save – powrót do przeszłości w grach wideo
DESCRIPTION:IV Ogólnopolska Konferencja Groznawcza: Ostatni save – powrót do przeszłości w grach wideo | Wydział Filologii Polskiej i Klasycznej
URL:https://helio.web.amu.edu.pl/event/iv-ogolnopolska-konferencja-groznawcza-ostatni-save-powrot-do-przeszlosci-w-grach-wideo/
CATEGORIES:WFPiK
END:VEVENT
BEGIN:VEVENT
DTSTART;TZID=Europe/Warsaw:20260510T180000
DTEND;TZID=Europe/Warsaw:20260510T200000
DTSTAMP:20260426T022217
CREATED:20260421T065510Z
LAST-MODIFIED:20260421T071331Z
UID:2762-1778436000-1778443200@helio.web.amu.edu.pl
SUMMARY:X Jubileuszowy Dzień Różnorodności Kulturowej 18 koncert jubileuszowy zespołu Pięć Stron Świata - Wydział Neofilologii UAM i Chór Kameralny UAM - AMU Chamber Choir. Zapraszamy!
DESCRIPTION:X Jubileuszowy Dzień Różnorodności Kulturowej na Wydziale Neofilologii UAM | Facebook
URL:https://helio.web.amu.edu.pl/event/x-jubileuszowy-dzien-roznorodnosci-kulturowej-18-koncert-jubileuszowy-zespolu-piec-stron-swiata-wydzial-neofilologii-uam-i-chor-kameralny-uam-amu-chamber-choir-zapraszamy/
CATEGORIES:Wydział Neofilologii
END:VEVENT
BEGIN:VEVENT
DTSTART;TZID=Europe/Warsaw:20260515T090000
DTEND;TZID=Europe/Warsaw:20260515T170000
DTSTAMP:20260426T022217
CREATED:20260219T124710Z
LAST-MODIFIED:20260219T124717Z
UID:2539-1778835600-1778864400@helio.web.amu.edu.pl
SUMMARY:II Ogólnopolska Konferencja Studencko-Doktorancką „Oblicza języka: badania\, perspektywy\, interpretacje”
DESCRIPTION:II Ogólnopolska Konferencja Studencko-Doktorancka Oblicza języka badania\, perspektywy\, interpretacje | Facebook
URL:https://helio.web.amu.edu.pl/event/ii-ogolnopolska-konferencja-studencko-doktorancka-oblicza-jezyka-badania-perspektywy-interpretacje/
CATEGORIES:WFPiK
END:VEVENT
BEGIN:VEVENT
DTSTART;TZID=Europe/Warsaw:20260521T080000
DTEND;TZID=Europe/Warsaw:20260521T170000
DTSTAMP:20260426T022217
CREATED:20260310T114008Z
LAST-MODIFIED:20260310T114015Z
UID:2630-1779350400-1779382800@helio.web.amu.edu.pl
SUMMARY:10. edycja Dnia Różnorodności Kulturowej
DESCRIPTION:Drogie Studentki/Drodzy… – Szkoła Nauk o Języku i Literaturze UAM | Facebook
URL:https://helio.web.amu.edu.pl/event/10-edycja-dnia-roznorodnosci-kulturowe/
CATEGORIES:Wydział Neofilologii
END:VEVENT
BEGIN:VEVENT
DTSTART;TZID=Europe/Warsaw:20260528T080000
DTEND;TZID=Europe/Warsaw:20260529T170000
DTSTAMP:20260426T022217
CREATED:20260129T082701Z
LAST-MODIFIED:20260129T082701Z
UID:2431-1779955200-1780074000@helio.web.amu.edu.pl
SUMMARY:HORYZONTY GIER: II Forum Groznawcze i XXI Konferencja Polskiego Towarzystwa Badania Gier
DESCRIPTION:
URL:https://helio.web.amu.edu.pl/event/horyzonty-gier-ii-forum-groznawcze-i-xxi-konferencja-polskiego-towarzystwa-badania-gier/
CATEGORIES:WFPiK
END:VEVENT
BEGIN:VEVENT
DTSTART;TZID=Europe/Warsaw:20260601T163000
DTEND;TZID=Europe/Warsaw:20260601T173000
DTSTAMP:20260426T022217
CREATED:20260421T071445Z
LAST-MODIFIED:20260421T071445Z
UID:2764-1780331400-1780335000@helio.web.amu.edu.pl
SUMMARY:Wykład otwarty prof. Alexandry Georgakopoulou na Wydziale Anglistyki
DESCRIPTION:
URL:https://helio.web.amu.edu.pl/event/wyklad-otwarty-prof-alexandry-georgakopoulou-na-wydziale-anglistyki/
CATEGORIES:Wydział Anglistyki
END:VEVENT
BEGIN:VEVENT
DTSTART;TZID=Europe/Warsaw:20260903T080000
DTEND;TZID=Europe/Warsaw:20260905T170000
DTSTAMP:20260426T022217
CREATED:20260121T124418Z
LAST-MODIFIED:20260129T074856Z
UID:2348-1788422400-1788627600@helio.web.amu.edu.pl
SUMMARY:IAM L3 Conference 2026
DESCRIPTION:The 14th International Conference \non Third Language Acquisition and Multilingualism
URL:https://helio.web.amu.edu.pl/event/14-miedzynarodowa-konferencja-poswiecona-akwizycji-trzeciego-jezyka-i-wielojezycznosci-tla-multilingualism/
CATEGORIES:Wydział Anglistyki,Wydział Neofilologii
END:VEVENT
BEGIN:VEVENT
DTSTART;TZID=Europe/Warsaw:20261021T080000
DTEND;TZID=Europe/Warsaw:20261023T170000
DTSTAMP:20260426T022217
CREATED:20260121T125653Z
LAST-MODIFIED:20260122T104247Z
UID:2351-1792569600-1792774800@helio.web.amu.edu.pl
SUMMARY:Strukturalizm praski dzisiaj
DESCRIPTION:
URL:https://helio.web.amu.edu.pl/event/strukturalizm-praski-dzisiaj/
CATEGORIES:WFPiK
END:VEVENT
END:VCALENDAR