BEGIN:VCALENDAR
VERSION:2.0
PRODID:-//Szkoła Nauk o Języku i Literaturze - ECPv6.15.20//NONSGML v1.0//EN
CALSCALE:GREGORIAN
METHOD:PUBLISH
X-WR-CALNAME:Szkoła Nauk o Języku i Literaturze
X-ORIGINAL-URL:https://helio.web.amu.edu.pl
X-WR-CALDESC:Wydarzenia dla Szkoła Nauk o Języku i Literaturze
REFRESH-INTERVAL;VALUE=DURATION:PT1H
X-Robots-Tag:noindex
X-PUBLISHED-TTL:PT1H
BEGIN:VTIMEZONE
TZID:Europe/Warsaw
BEGIN:DAYLIGHT
TZOFFSETFROM:+0100
TZOFFSETTO:+0200
TZNAME:CEST
DTSTART:20250330T010000
END:DAYLIGHT
BEGIN:STANDARD
TZOFFSETFROM:+0200
TZOFFSETTO:+0100
TZNAME:CET
DTSTART:20251026T010000
END:STANDARD
BEGIN:DAYLIGHT
TZOFFSETFROM:+0100
TZOFFSETTO:+0200
TZNAME:CEST
DTSTART:20260329T010000
END:DAYLIGHT
BEGIN:STANDARD
TZOFFSETFROM:+0200
TZOFFSETTO:+0100
TZNAME:CET
DTSTART:20261025T010000
END:STANDARD
BEGIN:DAYLIGHT
TZOFFSETFROM:+0100
TZOFFSETTO:+0200
TZNAME:CEST
DTSTART:20270328T010000
END:DAYLIGHT
BEGIN:STANDARD
TZOFFSETFROM:+0200
TZOFFSETTO:+0100
TZNAME:CET
DTSTART:20271031T010000
END:STANDARD
END:VTIMEZONE
BEGIN:VEVENT
DTSTART;TZID=Europe/Warsaw:20260414T080000
DTEND;TZID=Europe/Warsaw:20260428T170000
DTSTAMP:20260425T233132
CREATED:20260410T080011Z
LAST-MODIFIED:20260410T080159Z
UID:2707-1776153600-1777395600@helio.web.amu.edu.pl
SUMMARY:Norweski Kwiecień filmowy w Kinie Pałacowym
DESCRIPTION:Norweski Kwiecień Filmowy | Przegląd filmowy w kinie Pałacowym | Facebook
URL:https://helio.web.amu.edu.pl/event/norweski-kwiecien-filmowy-w-kinie-palacowym/
CATEGORIES:Wydział Neofilologii
END:VEVENT
BEGIN:VEVENT
DTSTART;TZID=Europe/Warsaw:20260421T080000
DTEND;TZID=Europe/Warsaw:20260424T170000
DTSTAMP:20260425T233132
CREATED:20260420T090357Z
LAST-MODIFIED:20260420T090357Z
UID:2734-1776758400-1777050000@helio.web.amu.edu.pl
SUMMARY:Konferencja „Political Novel in Europe Between Democracy and Authoritarianism”.
DESCRIPTION:l.facebook.com/l.php?u=https%3A%2F%2Fwfpik.amu.edu.pl%2Fwydarzenia%2Fmiedzynarodowa-konferencja-naukowa-politcal-novel-in-europe-in-between-democracy-and-authoritarianism%3Ffbclid%3DIwZXh0bgNhZW0CMTAAYnJpZBEwbUlLWnR2SWpBS0lyd2NzVnNydGMGYXBwX2lkEDIyMjAzOTE3ODgyMDA4OTIAAR4bTw3WH8jW33rciFJudBr003sEXx6LeEZVVS8E1YmUzZ1xZ88M_vwTB4gLFA_aem_Gv4EGwAzPle6GtBe4KbdOA&h=AT4eYi0F9vLcETNeBhxUAGuGLfYzALLyTTLM18eOCTWHISY1LkJGOuFFmzUZ6aPwuBWFpkpTXwMDCO5CZDxUnsxzYkqi_w9ZZTm_wpHU5HfV1EcswHwKtKEYUHsfcukfu0rsUGmmZN-K8Q&__tn__=R]-R&c[0]=AT73NEL9uRlworBWduHr8JyQPZnMUOK_yrQL9timzIcL7iAdtm17kam89K-DuiQEeGbatYDsdGXpAeLLmwjFnLVc2tXxhfGMfYAsMP96MKNM7PLt1K4xR9BksoM5Q-3H6XJvjdEcTm4bpF2XGCK67liPPVYVvSwEgpTaEe8HGefoYRkCTP-IWuks8liyjj1Ih4s
URL:https://helio.web.amu.edu.pl/event/konferencja-political-novel-in-europe-between-democracy-and-authoritarianism/
CATEGORIES:WFPiK
END:VEVENT
BEGIN:VEVENT
DTSTART;TZID=Europe/Warsaw:20260422T133000
DTEND;TZID=Europe/Warsaw:20260422T150000
DTSTAMP:20260425T233132
CREATED:20260414T103304Z
LAST-MODIFIED:20260414T103320Z
UID:2724-1776864600-1776870000@helio.web.amu.edu.pl
SUMMARY:„The Art of Translation” – wykład dr Delphine Grass
DESCRIPTION:„The Art of Translation” – wykład dr Delphine Grass – Szkoła Nauk o Języku i Literaturze
URL:https://helio.web.amu.edu.pl/event/the-art-of-translation-wyklad-dr-delphine-grass/
CATEGORIES:WFPiK
END:VEVENT
END:VCALENDAR