BEGIN:VCALENDAR
VERSION:2.0
PRODID:-//Szkoła Nauk o Języku i Literaturze - ECPv6.15.20//NONSGML v1.0//EN
CALSCALE:GREGORIAN
METHOD:PUBLISH
X-ORIGINAL-URL:https://helio.web.amu.edu.pl
X-WR-CALDESC:Wydarzenia dla Szkoła Nauk o Języku i Literaturze
REFRESH-INTERVAL;VALUE=DURATION:PT1H
X-Robots-Tag:noindex
X-PUBLISHED-TTL:PT1H
BEGIN:VTIMEZONE
TZID:Europe/Warsaw
BEGIN:DAYLIGHT
TZOFFSETFROM:+0100
TZOFFSETTO:+0200
TZNAME:CEST
DTSTART:20250330T010000
END:DAYLIGHT
BEGIN:STANDARD
TZOFFSETFROM:+0200
TZOFFSETTO:+0100
TZNAME:CET
DTSTART:20251026T010000
END:STANDARD
BEGIN:DAYLIGHT
TZOFFSETFROM:+0100
TZOFFSETTO:+0200
TZNAME:CEST
DTSTART:20260329T010000
END:DAYLIGHT
BEGIN:STANDARD
TZOFFSETFROM:+0200
TZOFFSETTO:+0100
TZNAME:CET
DTSTART:20261025T010000
END:STANDARD
BEGIN:DAYLIGHT
TZOFFSETFROM:+0100
TZOFFSETTO:+0200
TZNAME:CEST
DTSTART:20270328T010000
END:DAYLIGHT
BEGIN:STANDARD
TZOFFSETFROM:+0200
TZOFFSETTO:+0100
TZNAME:CET
DTSTART:20271031T010000
END:STANDARD
END:VTIMEZONE
BEGIN:VEVENT
DTSTART;TZID=Europe/Warsaw:20260410T080000
DTEND;TZID=Europe/Warsaw:20260410T170000
DTSTAMP:20260425T191425
CREATED:20260410T065020Z
LAST-MODIFIED:20260410T075139Z
UID:2705-1775808000-1775840400@helio.web.amu.edu.pl
SUMMARY:Wykład prof. Magdaleny Graf „W Poznaniu\, dla Poznania\, o Poznaniu. Historia\, współczesność i przyszłość badań nazewniczych”
DESCRIPTION:W Poznaniu\, dla Poznania\, o Poznaniu. Historia\, współczesność i przyszłość badań nazewniczych – wykład prof. Magdaleny Graf | Wydział Filologii Polskiej i Klasycznej
URL:https://helio.web.amu.edu.pl/event/wyklad-prof-magdaleny-graf-w-poznaniu-dla-poznania-o-poznaniu-historia-wspolczesnosc-i-przyszlosc-badan-nazewniczych/
CATEGORIES:WFPiK
END:VEVENT
END:VCALENDAR